BEGIN:VCALENDAR
VERSION:2.0
PRODID:-//runterraloco - ECPv6.15.1.1//NONSGML v1.0//EN
CALSCALE:GREGORIAN
METHOD:PUBLISH
X-WR-CALNAME:runterraloco
X-ORIGINAL-URL:https://runterraloco.com
X-WR-CALDESC:Events for runterraloco
REFRESH-INTERVAL;VALUE=DURATION:PT1H
X-Robots-Tag:noindex
X-PUBLISHED-TTL:PT1H
BEGIN:VTIMEZONE
TZID:America/Chicago
BEGIN:DAYLIGHT
TZOFFSETFROM:-0600
TZOFFSETTO:-0500
TZNAME:CDT
DTSTART:20260308T080000
END:DAYLIGHT
BEGIN:STANDARD
TZOFFSETFROM:-0500
TZOFFSETTO:-0600
TZNAME:CST
DTSTART:20261101T070000
END:STANDARD
END:VTIMEZONE
BEGIN:VEVENT
DTSTART;TZID=America/Chicago:20260427T173000
DTEND;TZID=America/Chicago:20260427T173000
DTSTAMP:20260423T065447
CREATED:20260331T113059Z
LAST-MODIFIED:20260331T113059Z
UID:7053-1777311000-1777311000@runterraloco.com
SUMMARY:$5 5K for ACHLA
DESCRIPTION:Join us for a community favorite: TerraLoco’s $5 5K Fun Run/Walk! For just $5\, run or walk a casual 5K while supporting a local nonprofit. 100% of the $5 entry goes directly to that evening’s featured charity. \nThis event uses a rolling start — arrive and begin your run/walk anytime between 5:30–6:10 PM. Choose the start time that works best for your pace\, with the goal of everyone finishing around the same time. All participants must be back at the store by 6:45 PM. \nAfter the run\, stick around to hear briefly from the nonprofit and for prize drawings (must be present to win). \nEvent Details \n\n$5 per person (cash or check only)\nRolling start 5:30–6:10 PM\nPlease finish by 6:45 PM\nSnacks provided (bring a refillable water bottle)\nPrize drawings after the run — must be present to win\n\nAll paces and ages welcome — strollers\, rollerblades\, bicycles and more\nLeashed\, vaccinated & well-behaved pets welcome\n\n\n\nCome run\, walk\, and support a great cause with the community! \nVOLUNTEER HERE: https://www.signupgenius.com/go/508094FA9AD2DAAF94-62786108-2026
URL:https://runterraloco.com/event/5-5k-for-achla/
LOCATION:TerraLoco\, 1190 16th St SW\, Rochester\, MN\, United States
ATTACH;FMTTYPE=image/png:https://runterraloco.com/wp-content/uploads/2026/03/FB-cover-ACHLA.png
END:VEVENT
END:VCALENDAR